BEGIN:VCALENDAR
VERSION:2.0
PRODID:-//TYPO3/NONSGML News system (news)//EN
BEGIN:VEVENT
UID:news-134070@ub.uni-graz.at
DTSTAMP:20260219T145701Z
DTSTART:20260527T070000Z
DTEND:20260527T080000Z
SUMMARY:Search like a Pro: Suchstrategien &amp; Suchoperatoren

DESCRIPTION:In diesem Kurs erhalten Sie Tipps und Tricks für eine effiziente Literatursuche.
END:VEVENT
END:VCALENDAR
